BEGIN:VCALENDAR
VERSION:2.0
PRODID:-//ChamberMaster//Event Calendar 2.0//EN
METHOD:PUBLISH
X-PUBLISHED-TTL:P3D
REFRESH-INTERVAL:P3D
CALSCALE:GREGORIAN
BEGIN:VEVENT
DTSTART:20100504T050000Z
DTEND:20100504T050000Z
X-MICROSOFT-CDO-ALLDAYEVENT:FALSE
SUMMARY:Unnamed Event
DESCRIPTION:Breakfast Exchange where YOU are the speaker!  Give a 60 second "commercial" on your business to more than 60 prospective customers and receive contact information everyone present!
X-ALT-DESC;FMTTYPE=text/html:Breakfast Exchange where YOU are the speaker!  Give a 60 second "commercial" on your business to more than 60 prospective customers and receive contact information everyone present!
LOCATION:Houston Community College Southeast 615 Rustic Lane
UID:e.2026.52004
SEQUENCE:3
DTSTAMP:20260424T073700Z
URL:https://business.eecoc.org/events/details/unnamed-event-05-04-2010-52004
END:VEVENT

END:VCALENDAR
