BEGIN:VCALENDAR
VERSION:2.0
PRODID:-//ChamberMaster//Event Calendar 2.0//EN
METHOD:PUBLISH
X-PUBLISHED-TTL:P3D
REFRESH-INTERVAL:P3D
CALSCALE:GREGORIAN
BEGIN:VEVENT
DTSTART:20110503T050000Z
DTEND:20110503T050000Z
X-MICROSOFT-CDO-ALLDAYEVENT:FALSE
SUMMARY:Unnamed Event
DESCRIPTION:Give a 60 second “commercial” on YOUR Business to more than 50 prospective customers!\nBuild relationships to move your business forward and receive contact information on all attendees for immediate follow-up! Don’t Miss this Complimentary Business Building Event
X-ALT-DESC;FMTTYPE=text/html:Give a 60 second “commercial” on YOUR Business to more than 50 prospective customers!\nBuild relationships to move your business forward and receive contact information on all attendees for immediate follow-up! Don’t Miss this Complimentary Business Building Event
LOCATION:Frost Bank 1001 Broadway Houston\, TX 77012
UID:e.2026.80076
SEQUENCE:3
DTSTAMP:20260423T134128Z
URL:https://business.eecoc.org/events/details/unnamed-event-05-03-2011-80076
END:VEVENT

END:VCALENDAR
