BEGIN:VCALENDAR
VERSION:2.0
PRODID:-//ChamberMaster//Event Calendar 2.0//EN
METHOD:PUBLISH
X-PUBLISHED-TTL:P3D
REFRESH-INTERVAL:P3D
CALSCALE:GREGORIAN
BEGIN:VEVENT
DTSTART:20100427T050000Z
DTEND:20100427T050000Z
X-MICROSOFT-CDO-ALLDAYEVENT:FALSE
SUMMARY:Unnamed Event
DESCRIPTION:2010 Annual Tournament Honoring Steve Stewart\, President - Gulf Winds International.  \nGolf Tournament Chair:  John Ryan\, Alexander Ryan Marine & Safety Co.\n$3500 - TITLE Sponsor\n$2500 - EAGLE Sponsor\n$1200 - BIRDIE Sponsor\n$250 -   INDIVIDUAL PLAYER
X-ALT-DESC;FMTTYPE=text/html:2010 Annual Tournament Honoring Steve Stewart\, President - Gulf Winds International.  \nGolf Tournament Chair:  John Ryan\, Alexander Ryan Marine & Safety Co.\n$3500 - TITLE Sponsor\n$2500 - EAGLE Sponsor\n$1200 - BIRDIE Sponsor\n$250 -   INDIVIDUAL PLAYER
LOCATION:Northgate County Club LLC 17100 Northgate Forest Drive
UID:e.2026.51006
SEQUENCE:3
DTSTAMP:20260424T090139Z
URL:https://business.eecoc.org/events/details/unnamed-event-04-27-2010-51006
END:VEVENT

END:VCALENDAR
