BEGIN:VCALENDAR
VERSION:2.0
PRODID:-//ChamberMaster//Event Calendar 2.0//EN
METHOD:PUBLISH
X-PUBLISHED-TTL:P3D
REFRESH-INTERVAL:P3D
CALSCALE:GREGORIAN
BEGIN:VEVENT
DTSTART:20120419T050000Z
DTEND:20120419T050000Z
X-MICROSOFT-CDO-ALLDAYEVENT:FALSE
SUMMARY:Unnamed Event
DESCRIPTION:April Business After Hours! Held at a new addition to the East End\, Paco Joes's Grill & Cantina at Plaza Flamingo. Join us for fun while networking with new business prospects! Free appetizers and drink specials!
X-ALT-DESC;FMTTYPE=text/html:April Business After Hours! Held at a new addition to the East End\, Paco Joes's Grill & Cantina at Plaza Flamingo. Join us for fun while networking with new business prospects! Free appetizers and drink specials!
LOCATION:Paco Joe’s Grill & Cantina 9906 Gulf Freeway
UID:e.2026.90140
SEQUENCE:3
DTSTAMP:20260422T203754Z
URL:https://business.eecoc.org/events/details/unnamed-event-04-19-2012-90140
END:VEVENT

END:VCALENDAR
