BEGIN:VCALENDAR
VERSION:2.0
PRODID:-//ChamberMaster//Event Calendar 2.0//EN
METHOD:PUBLISH
X-PUBLISHED-TTL:P3D
REFRESH-INTERVAL:P3D
CALSCALE:GREGORIAN
BEGIN:VEVENT
DTSTART:20120416T050000Z
DTEND:20120416T050000Z
X-MICROSOFT-CDO-ALLDAYEVENT:FALSE
SUMMARY:Unnamed Event
DESCRIPTION:2012 Annual Tournament Honoring Clyde Fitzgerald\, District President - ILA-South Atlantic & Gulf Coast District \nGolf Tournament Chairs: John & Jason Ryan\, Alexander Ryan Marine & Safety Co.\n$3500 - TITLE Sponsor\n$2500 - EAGLE Sponsor\n$1200 - BIRDIE Sponsor\n$250 -   INDIVIDUAL PLAYER\n\nPlease call 713-926-3305 or email frances@eecoc.org
X-ALT-DESC;FMTTYPE=text/html:2012 Annual Tournament Honoring Clyde Fitzgerald\, District President - ILA-South Atlantic & Gulf Coast District \nGolf Tournament Chairs: John & Jason Ryan\, Alexander Ryan Marine & Safety Co.\n$3500 - TITLE Sponsor\n$2500 - EAGLE Sponsor\n$1200 - BIRDIE Sponsor\n$250 -   INDIVIDUAL PLAYER\n\nPlease call 713-926-3305 or email frances@eecoc.org
LOCATION:Northgate County Club LLC 17100 Northgate Forest Drive Shotgun Start: 1:00PM
UID:e.2026.89598
SEQUENCE:3
DTSTAMP:20260422T203455Z
URL:https://business.eecoc.org/events/details/unnamed-event-04-16-2012-89598
END:VEVENT

END:VCALENDAR
