BEGIN:VCALENDAR
VERSION:2.0
PRODID:-//ChamberMaster//Event Calendar 2.0//EN
METHOD:PUBLISH
X-PUBLISHED-TTL:P3D
REFRESH-INTERVAL:P3D
CALSCALE:GREGORIAN
BEGIN:VEVENT
DTSTART:20100414T050000Z
DTEND:20100414T050000Z
X-MICROSOFT-CDO-ALLDAYEVENT:FALSE
SUMMARY:Unnamed Event
DESCRIPTION:Oil   John Parkinson\, Operations Manager\, PL Propylene\; and Mark Skobel\, Plant Manager\, Valero Refinery - Houston.  Learn about Petroleum Operations and how YOU can do business with these business giants!
X-ALT-DESC;FMTTYPE=text/html:Oil & Gas Business Luncheon featuring Andy Leonard\, Regional Director\, Kinder Morgan\; John Parkinson\, Operations Manager\, PL Propylene\; and Mark Skobel\, Plant Manager\, Valero Refinery - Houston.  Learn about Petroleum Operations and how YOU can do business with these business giants!
LOCATION:Brady's Landing 8505 Cypress St.
UID:e.2026.50996
SEQUENCE:3
DTSTAMP:20260424T090011Z
URL:https://business.eecoc.org/events/details/unnamed-event-04-14-2010-50996
END:VEVENT

END:VCALENDAR
