BEGIN:VCALENDAR
VERSION:2.0
PRODID:-//ChamberMaster//Event Calendar 2.0//EN
METHOD:PUBLISH
X-PUBLISHED-TTL:P3D
REFRESH-INTERVAL:P3D
CALSCALE:GREGORIAN
BEGIN:VEVENT
DTSTART:20110413T050000Z
DTEND:20110413T050000Z
X-MICROSOFT-CDO-ALLDAYEVENT:FALSE
SUMMARY:Unnamed Event
DESCRIPTION:Business Luncheon Featuring Chris Canetti\, President-Business Operations of Houston Dynamo\nChris was named President in November\, 2010 and three months later\, February 5\, 2011 the Dynamo held the Groundbreaking for their new state-of-the-art\, open-air stadium designed to host Dynamo matches as well as additional sporting and concert events.\n\nCome hear about the new stadium and learn how your business can benefit\, do business and be a part of the new stadium!
X-ALT-DESC;FMTTYPE=text/html:Business Luncheon Featuring Chris Canetti\, President-Business Operations of Houston Dynamo\nChris was named President in November\, 2010 and three months later\, February 5\, 2011 the Dynamo held the Groundbreaking for their new state-of-the-art\, open-air stadium designed to host Dynamo matches as well as additional sporting and concert events.\n\nCome hear about the new stadium and learn how your business can benefit\, do business and be a part of the new stadium!
LOCATION:Brady's Landing 8505 Cypress Houston\, TX 77012
UID:e.2026.75129
SEQUENCE:3
DTSTAMP:20260423T151958Z
URL:https://business.eecoc.org/events/details/unnamed-event-04-13-2011-75129
END:VEVENT

END:VCALENDAR
