BEGIN:VCALENDAR
VERSION:2.0
PRODID:-//ChamberMaster//Event Calendar 2.0//EN
METHOD:PUBLISH
X-PUBLISHED-TTL:P3D
REFRESH-INTERVAL:P3D
CALSCALE:GREGORIAN
BEGIN:VEVENT
DTSTART:20120411T050000Z
DTEND:20120411T050000Z
X-MICROSOFT-CDO-ALLDAYEVENT:FALSE
SUMMARY:Unnamed Event
DESCRIPTION:Mayoral Business Luncheon featuring The Honorable Annise Parker\, Mayor City of Houston\n\nThis is Mayor Parker’s first address to the East End since her re-election!  Hear \nher plans for East End infrastructure and other important news!
X-ALT-DESC;FMTTYPE=text/html:Mayoral Business Luncheon featuring The Honorable Annise Parker\, Mayor City of Houston\n\nThis is Mayor Parker’s first address to the East End since her re-election!  Hear \nher plans for East End infrastructure and other important news!
LOCATION:Brady's Landing 8505 Cypress Houston\, TX 77012
UID:e.2026.91061
SEQUENCE:3
DTSTAMP:20260422T204731Z
URL:https://business.eecoc.org/events/details/unnamed-event-04-11-2012-91061
END:VEVENT

END:VCALENDAR
