BEGIN:VCALENDAR
VERSION:2.0
PRODID:-//ChamberMaster//Event Calendar 2.0//EN
METHOD:PUBLISH
X-PUBLISHED-TTL:P3D
REFRESH-INTERVAL:P3D
CALSCALE:GREGORIAN
BEGIN:VEVENT
DTSTART:20100406T050000Z
DTEND:20100406T050000Z
X-MICROSOFT-CDO-ALLDAYEVENT:FALSE
SUMMARY:Unnamed Event
DESCRIPTION:Speed Networking Breakfast!  Complimentary Breakfast sponsored by Hilton Hobby Houston Airport.  Personally introduce YOUR business to more than 70 prospective customers at this energizing\, and fun networking event!  Receive contact information on everyone!
X-ALT-DESC;FMTTYPE=text/html:Speed Networking Breakfast!  Complimentary Breakfast sponsored by Hilton Hobby Houston Airport.  Personally introduce YOUR business to more than 70 prospective customers at this energizing\, and fun networking event!  Receive contact information on everyone!
LOCATION:Hilton Hobby Houston Airport 8181 Airport Boulevard
UID:e.2026.50992
SEQUENCE:3
DTSTAMP:20260424T090019Z
URL:https://business.eecoc.org/events/details/unnamed-event-04-06-2010-50992
END:VEVENT

END:VCALENDAR
