BEGIN:VCALENDAR
VERSION:2.0
PRODID:-//ChamberMaster//Event Calendar 2.0//EN
METHOD:PUBLISH
X-PUBLISHED-TTL:P3D
REFRESH-INTERVAL:P3D
CALSCALE:GREGORIAN
BEGIN:VEVENT
DTSTART:20110405T050000Z
DTEND:20110405T050000Z
X-MICROSOFT-CDO-ALLDAYEVENT:FALSE
SUMMARY:Unnamed Event
DESCRIPTION:Social Networking
X-ALT-DESC;FMTTYPE=text/html:Social Networking
LOCATION:Houston Community College-Southeast Campus 6815 Rustic\, Learning Hub Building-Room 108 Houston\, TX 77087
UID:e.2026.74087
SEQUENCE:3
DTSTAMP:20260423T152105Z
URL:https://business.eecoc.org/events/details/unnamed-event-04-05-2011-74087
END:VEVENT

END:VCALENDAR
