BEGIN:VCALENDAR
VERSION:2.0
PRODID:-//ChamberMaster//Event Calendar 2.0//EN
METHOD:PUBLISH
X-PUBLISHED-TTL:P3D
REFRESH-INTERVAL:P3D
CALSCALE:GREGORIAN
BEGIN:VEVENT
DTSTART:20110401T050000Z
DTEND:20110401T050000Z
X-MICROSOFT-CDO-ALLDAYEVENT:FALSE
SUMMARY:Unnamed Event
DESCRIPTION:Come unwind\, network and meet a few new friends. For your entertainment\, Sister Sister will take stage at 7 p.m. Complimentary light appetizers and drink specials will be offered.
X-ALT-DESC;FMTTYPE=text/html:Come unwind\, network and meet a few new friends. For your entertainment\, Sister Sister will take stage at 7 p.m. Complimentary light appetizers and drink specials will be offered.
LOCATION:Merida's Mexican Restaurant 2509 Navigation Rd. Houston\, TX 77003
UID:e.2026.74905
SEQUENCE:3
DTSTAMP:20260423T151858Z
URL:https://business.eecoc.org/events/details/unnamed-event-04-01-2011-74905
END:VEVENT

END:VCALENDAR
