BEGIN:VCALENDAR
VERSION:2.0
PRODID:-//ChamberMaster//Event Calendar 2.0//EN
METHOD:PUBLISH
X-PUBLISHED-TTL:P3D
REFRESH-INTERVAL:P3D
CALSCALE:GREGORIAN
BEGIN:VEVENT
DTSTART:20100331T050000Z
DTEND:20100331T050000Z
X-MICROSOFT-CDO-ALLDAYEVENT:FALSE
SUMMARY:Unnamed Event
DESCRIPTION:Infrastructure meeting featuring County Commissioner Sylvia Garcia!  Hear about the County's plans for infrastructure improvements and provide input to Commissioner regarding your business and community!  SPONSORSHIP AVAILABLE!
X-ALT-DESC;FMTTYPE=text/html:Infrastructure meeting featuring County Commissioner Sylvia Garcia!  Hear about the County's plans for infrastructure improvements and provide input to Commissioner regarding your business and community!  SPONSORSHIP AVAILABLE!
LOCATION:One Americas Plaza\, 2311 Canal
UID:e.2026.48499
SEQUENCE:3
DTSTAMP:20260424T103706Z
URL:https://business.eecoc.org/events/details/unnamed-event-03-31-2010-48499
END:VEVENT

END:VCALENDAR
