BEGIN:VCALENDAR
VERSION:2.0
PRODID:-//ChamberMaster//Event Calendar 2.0//EN
METHOD:PUBLISH
X-PUBLISHED-TTL:P3D
REFRESH-INTERVAL:P3D
CALSCALE:GREGORIAN
BEGIN:VEVENT
DTSTART:20120327T050000Z
DTEND:20120327T050000Z
X-MICROSOFT-CDO-ALLDAYEVENT:FALSE
SUMMARY:Unnamed Event
DESCRIPTION:Give a 60 second commercial on your business to more than 50 prospective customers!  Receive contact information after the event for immediate follow up. Complimentary Breakfast will be provided!
X-ALT-DESC;FMTTYPE=text/html:Give a 60 second commercial on your business to more than 50 prospective customers!  Receive contact information after the event for immediate follow up. Complimentary Breakfast will be provided!
LOCATION:Talento Bilingue de Houston 333 S. Jensen Dr Houston\, TX 77003
UID:e.2026.90216
SEQUENCE:3
DTSTAMP:20260422T215708Z
URL:https://business.eecoc.org/events/details/unnamed-event-03-27-2012-90216
END:VEVENT

END:VCALENDAR
