BEGIN:VCALENDAR
VERSION:2.0
PRODID:-//ChamberMaster//Event Calendar 2.0//EN
METHOD:PUBLISH
X-PUBLISHED-TTL:P3D
REFRESH-INTERVAL:P3D
CALSCALE:GREGORIAN
BEGIN:VEVENT
DTSTART:20110324T050000Z
DTEND:20110324T050000Z
X-MICROSOFT-CDO-ALLDAYEVENT:FALSE
SUMMARY:Unnamed Event
DESCRIPTION:A Current Glimpse of Business
X-ALT-DESC;FMTTYPE=text/html:A Current Glimpse of Business
LOCATION:Brady's Landing 8505 Cypress Houston\, TX 77012
UID:e.2026.74082
SEQUENCE:3
DTSTAMP:20260423T162516Z
URL:https://business.eecoc.org/events/details/unnamed-event-03-24-2011-74082
END:VEVENT

END:VCALENDAR
