BEGIN:VCALENDAR
VERSION:2.0
PRODID:-//ChamberMaster//Event Calendar 2.0//EN
METHOD:PUBLISH
X-PUBLISHED-TTL:P3D
REFRESH-INTERVAL:P3D
CALSCALE:GREGORIAN
BEGIN:VEVENT
DTSTART:20110323T050000Z
DTEND:20110323T050000Z
X-MICROSOFT-CDO-ALLDAYEVENT:FALSE
SUMMARY:Unnamed Event
DESCRIPTION:The focus of this committee is to lobbying for East End Infrastructure repairs to be included in the City's Proposition One & Capital Improvement Plan.\nJoin us\, give input and discussion data from the PWE CIP Process Manual that evaluates the streets and drainage priority by our Co-Chairs Robert Fiederlein of Lockwood\, Andrews & Newman\, Inc. and John Saavedra\, Independent Consultants.
X-ALT-DESC;FMTTYPE=text/html:The focus of this committee is to lobbying for East End Infrastructure repairs to be included in the City's Proposition One & Capital Improvement Plan.\nJoin us\, give input and discussion data from the PWE CIP Process Manual that evaluates the streets and drainage priority by our Co-Chairs Robert Fiederlein of Lockwood\, Andrews & Newman\, Inc. and John Saavedra\, Independent Consultants.
LOCATION:Plaza Marbella 6632 Harrisburg Blvd. Houston\, TX 77011Plaza Marbella
UID:e.2026.75017
SEQUENCE:3
DTSTAMP:20260423T162729Z
URL:https://business.eecoc.org/events/details/unnamed-event-03-23-2011-75017
END:VEVENT

END:VCALENDAR
