BEGIN:VCALENDAR
VERSION:2.0
PRODID:-//ChamberMaster//Event Calendar 2.0//EN
METHOD:PUBLISH
X-PUBLISHED-TTL:P3D
REFRESH-INTERVAL:P3D
CALSCALE:GREGORIAN
BEGIN:VEVENT
DTSTART:20100323T050000Z
DTEND:20100323T050000Z
X-MICROSOFT-CDO-ALLDAYEVENT:FALSE
SUMMARY:Unnamed Event
DESCRIPTION:Business After Hours at El Jardin!  Meet new friends & customers and celebrate Roy Zermeno's 25th Anniversary with AT&T as you enjoy wine\, beer and delicious hors d'oeuvres at the incredible El Jardin!
X-ALT-DESC;FMTTYPE=text/html:Business After Hours at El Jardin!  Meet new friends & customers and celebrate Roy Zermeno's 25th Anniversary with AT&T as you enjoy wine\, beer and delicious hors d'oeuvres at the incredible El Jardin!
LOCATION:El Jardin 7849 Harrisburg
UID:e.2026.49862
SEQUENCE:3
DTSTAMP:20260424T102833Z
URL:https://business.eecoc.org/events/details/unnamed-event-03-23-2010-49862
END:VEVENT

END:VCALENDAR
