BEGIN:VCALENDAR
VERSION:2.0
PRODID:-//ChamberMaster//Event Calendar 2.0//EN
METHOD:PUBLISH
X-PUBLISHED-TTL:P3D
REFRESH-INTERVAL:P3D
CALSCALE:GREGORIAN
BEGIN:VEVENT
DTSTART:20120314T050000Z
DTEND:20120314T050000Z
X-MICROSOFT-CDO-ALLDAYEVENT:FALSE
SUMMARY:Unnamed Event
DESCRIPTION:Panel Discussion:\nImport/Export to Houston’s Ship Channel:\nLean How It Works & How You Can Participate\nDid you know that about 90% of goods we use in Houston comes to us through the Houston Ship Channel and the Port of Houston? Join us and hear from the following experts:\nJohn Heimsath\, President\, ACM Logistics & Consulting\, Inc.\nJohn Moseley\, General Manager ~ Trade Development\, Port of Houston Authority\nBill Turner\, Director of US Cotton Operations\, Nobel Americas
X-ALT-DESC;FMTTYPE=text/html:Panel Discussion:\nImport/Export to Houston’s Ship Channel:\nLean How It Works & How You Can Participate\nDid you know that about 90% of goods we use in Houston comes to us through the Houston Ship Channel and the Port of Houston? Join us and hear from the following experts:\nJohn Heimsath\, President\, ACM Logistics & Consulting\, Inc.\nJohn Moseley\, General Manager ~ Trade Development\, Port of Houston Authority\nBill Turner\, Director of US Cotton Operations\, Nobel Americas
LOCATION:Brady's Landing 8505 Cypress Houston\, TX 77012
UID:e.2026.90091
SEQUENCE:3
DTSTAMP:20260422T215758Z
URL:https://business.eecoc.org/events/details/unnamed-event-03-14-2012-90091
END:VEVENT

END:VCALENDAR
