BEGIN:VCALENDAR
VERSION:2.0
PRODID:-//ChamberMaster//Event Calendar 2.0//EN
METHOD:PUBLISH
X-PUBLISHED-TTL:P3D
REFRESH-INTERVAL:P3D
CALSCALE:GREGORIAN
BEGIN:VEVENT
DTSTART:20100311T060000Z
DTEND:20100311T060000Z
X-MICROSOFT-CDO-ALLDAYEVENT:FALSE
SUMMARY:Unnamed Event
DESCRIPTION:Mayoral Luncheon featuring Mayor Annise Parker!  Hear the Mayor's FIRST presentation to the East End!
X-ALT-DESC;FMTTYPE=text/html:Mayoral Luncheon featuring Mayor Annise Parker!  Hear the Mayor's FIRST presentation to the East End!
LOCATION:Brady's Landing 8505 Cypress - 77012
UID:e.2026.47204
SEQUENCE:3
DTSTAMP:20260424T103936Z
URL:https://business.eecoc.org/events/details/unnamed-event-03-11-2010-47204
END:VEVENT

END:VCALENDAR
