BEGIN:VCALENDAR
VERSION:2.0
PRODID:-//ChamberMaster//Event Calendar 2.0//EN
METHOD:PUBLISH
X-PUBLISHED-TTL:P3D
REFRESH-INTERVAL:P3D
CALSCALE:GREGORIAN
BEGIN:VEVENT
DTSTART:20110309T060000Z
DTEND:20110309T060000Z
X-MICROSOFT-CDO-ALLDAYEVENT:FALSE
SUMMARY:Unnamed Event
DESCRIPTION:Let's Welcome Commissioner Jack Morman as our Harris County Precinct Two Commissioner Representing our East End!\nCome hear his plans and meet members of his staff.
X-ALT-DESC;FMTTYPE=text/html:Let's Welcome Commissioner Jack Morman as our Harris County Precinct Two Commissioner Representing our East End!\nCome hear his plans and meet members of his staff.
LOCATION:Brady's Landing 8505 Cypress Houston\, TX 77012
UID:e.2026.74041
SEQUENCE:3
DTSTAMP:20260423T162521Z
URL:https://business.eecoc.org/events/details/unnamed-event-03-09-2011-74041
END:VEVENT

END:VCALENDAR
