BEGIN:VCALENDAR
VERSION:2.0
PRODID:-//ChamberMaster//Event Calendar 2.0//EN
METHOD:PUBLISH
X-PUBLISHED-TTL:P3D
REFRESH-INTERVAL:P3D
CALSCALE:GREGORIAN
BEGIN:VEVENT
DTSTART:20100302T060000Z
DTEND:20100302T060000Z
X-MICROSOFT-CDO-ALLDAYEVENT:FALSE
SUMMARY:Unnamed Event
DESCRIPTION:Learn How to Do Business with the Port\, and give a sixty second "commercial" on YOUR business to more than 65 prospective customers!  Enjoy a complimentary breakfast at the Port Authority Administration Office!
X-ALT-DESC;FMTTYPE=text/html:Learn How to Do Business with the Port\, and give a sixty second "commercial" on YOUR business to more than 65 prospective customers!  Enjoy a complimentary breakfast at the Port Authority Administration Office!
LOCATION:Port of Houston Authority 111 E. Loop North - 77029
UID:e.2026.47200
SEQUENCE:3
DTSTAMP:20260424T103415Z
URL:https://business.eecoc.org/events/details/unnamed-event-03-02-2010-47200
END:VEVENT

END:VCALENDAR
