BEGIN:VCALENDAR
VERSION:2.0
PRODID:-//ChamberMaster//Event Calendar 2.0//EN
METHOD:PUBLISH
X-PUBLISHED-TTL:P3D
REFRESH-INTERVAL:P3D
CALSCALE:GREGORIAN
BEGIN:VEVENT
DTSTART:20110301T060000Z
DTEND:20110301T060000Z
X-MICROSOFT-CDO-ALLDAYEVENT:FALSE
SUMMARY:Unnamed Event
DESCRIPTION:Give a 60 second "commercial" on YOUR Business to more than 50 prospective customers!\nComplimentary Event Includes Breakfast and Coffee!
X-ALT-DESC;FMTTYPE=text/html:Give a 60 second "commercial" on YOUR Business to more than 50 prospective customers!\nComplimentary Event Includes Breakfast and Coffee!
LOCATION:Talento Bilingue de Houston 333 S. Jensen Dr. Houston\, TX 77003
UID:e.2026.74455
SEQUENCE:3
DTSTAMP:20260423T163622Z
URL:https://business.eecoc.org/events/details/unnamed-event-03-01-2011-74455
END:VEVENT

END:VCALENDAR
