BEGIN:VCALENDAR
VERSION:2.0
PRODID:-//ChamberMaster//Event Calendar 2.0//EN
METHOD:PUBLISH
X-PUBLISHED-TTL:P3D
REFRESH-INTERVAL:P3D
CALSCALE:GREGORIAN
BEGIN:VEVENT
DTSTART:20120216T060000Z
DTEND:20120216T060000Z
X-MICROSOFT-CDO-ALLDAYEVENT:FALSE
SUMMARY:Unnamed Event
DESCRIPTION:Mix and Mingle with East End Chamber Members and Friends and Leave With Valuable Business Contacts !
X-ALT-DESC;FMTTYPE=text/html:Mix and Mingle with East End Chamber Members and Friends and Leave With Valuable Business Contacts !
LOCATION:Spanky's Pizza 7210 South Loop East Houston\, TX 77087
UID:e.2026.88832
SEQUENCE:3
DTSTAMP:20260422T233759Z
URL:https://business.eecoc.org/events/details/unnamed-event-02-16-2012-88832
END:VEVENT

END:VCALENDAR
