BEGIN:VCALENDAR
VERSION:2.0
PRODID:-//ChamberMaster//Event Calendar 2.0//EN
METHOD:PUBLISH
X-PUBLISHED-TTL:P3D
REFRESH-INTERVAL:P3D
CALSCALE:GREGORIAN
BEGIN:VEVENT
DTSTART:20110215T060000Z
DTEND:20110215T060000Z
X-MICROSOFT-CDO-ALLDAYEVENT:FALSE
SUMMARY:Unnamed Event
DESCRIPTION:Come hear Council Member Stephen Costello and meet the Chambers new Subcommittee Co-Chairs Robert Fiederlein of Lockwood\, Andrews & Newman\, Inc. and John Saavedra\, Independent Consultant.\nThe focus will be on lobbying for East End Infrastructure repairs to be included in the City's Proposition One & Capital Improvement Plan.\nComplimentary Breakfast Provided by Plaza Marbella! Bring and East End Associate\, Neighbor or Friend with you!
X-ALT-DESC;FMTTYPE=text/html:Come hear Council Member Stephen Costello and meet the Chambers new Subcommittee Co-Chairs Robert Fiederlein of Lockwood\, Andrews & Newman\, Inc. and John Saavedra\, Independent Consultant.\nThe focus will be on lobbying for East End Infrastructure repairs to be included in the City's Proposition One & Capital Improvement Plan.\nComplimentary Breakfast Provided by Plaza Marbella! Bring and East End Associate\, Neighbor or Friend with you!
LOCATION:Plaza Marbella 6632 Harrisburg Blvd. Houston\, TX 77011
UID:e.2026.73872
SEQUENCE:3
DTSTAMP:20260423T180447Z
URL:https://business.eecoc.org/events/details/unnamed-event-02-15-2011-73872
END:VEVENT

END:VCALENDAR
