BEGIN:VCALENDAR
VERSION:2.0
PRODID:-//ChamberMaster//Event Calendar 2.0//EN
METHOD:PUBLISH
X-PUBLISHED-TTL:P3D
REFRESH-INTERVAL:P3D
CALSCALE:GREGORIAN
BEGIN:VEVENT
DTSTART:20100210T060000Z
DTEND:20100210T060000Z
X-MICROSOFT-CDO-ALLDAYEVENT:FALSE
SUMMARY:Unnamed Event
DESCRIPTION:Maritime Business Luncheon - Leading Maritime businesses in Panel Presentation - John Ryan\, President\, Alexander Ryan Marine & Safety Co.\, Mitch Hausman\, President\, Southwest Wire & Rope & Julian Hillery\, President World Ship Supply will share exciting news on business prosperity. Connect with success at this enlightening presentation!
X-ALT-DESC;FMTTYPE=text/html:Maritime Business Luncheon - Leading Maritime businesses in Panel Presentation - John Ryan\, President\, Alexander Ryan Marine & Safety Co.\, Mitch Hausman\, President\, Southwest Wire & Rope & Julian Hillery\, President World Ship Supply will share exciting news on business prosperity. Connect with success at this enlightening presentation!
LOCATION:Brady's Landing 8505 Cypress St. 77012
UID:e.2026.46646
SEQUENCE:3
DTSTAMP:20260424T114623Z
URL:https://business.eecoc.org/events/details/unnamed-event-02-10-2010-46646
END:VEVENT

END:VCALENDAR
