BEGIN:VCALENDAR
VERSION:2.0
PRODID:-//ChamberMaster//Event Calendar 2.0//EN
METHOD:PUBLISH
X-PUBLISHED-TTL:P3D
REFRESH-INTERVAL:P3D
CALSCALE:GREGORIAN
BEGIN:VEVENT
DTSTART:20110209T060000Z
DTEND:20110209T060000Z
X-MICROSOFT-CDO-ALLDAYEVENT:FALSE
SUMMARY:Unnamed Event
DESCRIPTION:East End Industry Forecast on Maritime\, Logistics & Refinery Featuring:\nJohn Moseley\, General Manager-Trade Dev.\, Port of Houston Authority\nTodd Stewart\, Vice President\, Gulf Winds International\, Inc.\nKevin Brown\, Sr. VP of Refining\, LyondellBasell\nMeet our panel and learn how you can benefit from and do business with the East End businesses!
X-ALT-DESC;FMTTYPE=text/html:East End Industry Forecast on Maritime\, Logistics & Refinery Featuring:\nJohn Moseley\, General Manager-Trade Dev.\, Port of Houston Authority\nTodd Stewart\, Vice President\, Gulf Winds International\, Inc.\nKevin Brown\, Sr. VP of Refining\, LyondellBasell\nMeet our panel and learn how you can benefit from and do business with the East End businesses!
LOCATION:Brady's Landing 8505 Cypress Houston\, TX 77012
UID:e.2026.73635
SEQUENCE:3
DTSTAMP:20260423T180441Z
URL:https://business.eecoc.org/events/details/unnamed-event-02-09-2011-73635
END:VEVENT

END:VCALENDAR
