BEGIN:VCALENDAR
VERSION:2.0
PRODID:-//ChamberMaster//Event Calendar 2.0//EN
METHOD:PUBLISH
X-PUBLISHED-TTL:P3D
REFRESH-INTERVAL:P3D
CALSCALE:GREGORIAN
BEGIN:VEVENT
DTSTART:20120208T060000Z
DTEND:20120208T060000Z
X-MICROSOFT-CDO-ALLDAYEVENT:FALSE
SUMMARY:Unnamed Event
DESCRIPTION:Panel Discussion: Houston Ship Channel Region   Robin Riley\, Chair\, Houston Ship Channel Security\; Chief Mark Smith\, Chief of Police\, Port Security\; Commander Richard Howes\, US Coast Guard\; Patricia Parrish\, Manager of HSSE at APM Terminals\; Coast Guard Representative and Representative from local Businesses along the Port of Houston. \nLearn how these organizations work together for the security of employees\, residents and facilities surrounding the Houston Ship Channel. Hear how they deliver improved security for the region’s waterside and landside facilities. Together they increase preparedness and response capability to mitigate and eliminate potential security threats within district boundaries. They will also talk about the Measurements\; Processes\; Equipment/Tools\; Benefits and Costs to secure Houston at the point of entry\, the Houston Ship Channel and our Port!
X-ALT-DESC;FMTTYPE=text/html:Panel Discussion: Houston Ship Channel Region & Port Security \nJoin us for a panel discussion on Houston Ship Channel Region & Port Security.  We are honored to have Adrian Garcia\, Harris County Sheriff\; Robin Riley\, Chair\, Houston Ship Channel Security\; Chief Mark Smith\, Chief of Police\, Port Security\; Commander Richard Howes\, US Coast Guard\; Patricia Parrish\, Manager of HSSE at APM Terminals\; Coast Guard Representative and Representative from local Businesses along the Port of Houston. \nLearn how these organizations work together for the security of employees\, residents and facilities surrounding the Houston Ship Channel. Hear how they deliver improved security for the region’s waterside and landside facilities. Together they increase preparedness and response capability to mitigate and eliminate potential security threats within district boundaries. They will also talk about the Measurements\; Processes\; Equipment/Tools\; Benefits and Costs to secure Houston at the point of entry\, the Houston Ship Channel and our Port!  
LOCATION:Brady's Landing 8505 Cypress Houston\, TX 77012
UID:e.2026.89489
SEQUENCE:3
DTSTAMP:20260422T234400Z
URL:https://business.eecoc.org/events/details/unnamed-event-02-08-2012-89489
END:VEVENT

END:VCALENDAR
