BEGIN:VCALENDAR
VERSION:2.0
PRODID:-//ChamberMaster//Event Calendar 2.0//EN
METHOD:PUBLISH
X-PUBLISHED-TTL:P3D
REFRESH-INTERVAL:P3D
CALSCALE:GREGORIAN
BEGIN:VEVENT
DTSTART:20100202T060000Z
DTEND:20100202T060000Z
X-MICROSOFT-CDO-ALLDAYEVENT:FALSE
SUMMARY:Unnamed Event
DESCRIPTION:Meet more than 60 prospective customers at this innovative and energized networking event!  Complimentary Breakfast provided by HCA Homes & Structura Design
X-ALT-DESC;FMTTYPE=text/html:Meet more than 60 prospective customers at this innovative and energized networking event!  Complimentary Breakfast provided by HCA Homes & Structura Design
LOCATION:HCA Homes 5512 Gulf Freeway 77023
UID:e.2026.46643
SEQUENCE:3
DTSTAMP:20260424T114617Z
URL:https://business.eecoc.org/events/details/unnamed-event-02-02-2010-46643
END:VEVENT

END:VCALENDAR
