BEGIN:VCALENDAR
VERSION:2.0
PRODID:-//ChamberMaster//Event Calendar 2.0//EN
METHOD:PUBLISH
X-PUBLISHED-TTL:P3D
REFRESH-INTERVAL:P3D
CALSCALE:GREGORIAN
BEGIN:VEVENT
DTSTART:20110201T060000Z
DTEND:20110201T060000Z
X-MICROSOFT-CDO-ALLDAYEVENT:FALSE
SUMMARY:Unnamed Event
DESCRIPTION:Presented by Troy Elmore\, Managing Partner\, Sandler Training\nAttend our Lunch & Learn if you are a Business Owner and/or Sales Person who is frustrated with the endless challenges of having to get new business and as part of that strategy picking up the phone to make cold calls is one of the methods you are committed to doing in 2011.
X-ALT-DESC;FMTTYPE=text/html:Presented by Troy Elmore\, Managing Partner\, Sandler Training\nAttend our Lunch & Learn if you are a Business Owner and/or Sales Person who is frustrated with the endless challenges of having to get new business and as part of that strategy picking up the phone to make cold calls is one of the methods you are committed to doing in 2011.
LOCATION:Houston Community College-Southeast Campus 6815 Rustic Houston\, TX 77087
UID:e.2026.73266
SEQUENCE:3
DTSTAMP:20260423T180609Z
URL:https://business.eecoc.org/events/details/unnamed-event-02-01-2011-73266
END:VEVENT

END:VCALENDAR
