BEGIN:VCALENDAR
VERSION:2.0
PRODID:-//ChamberMaster//Event Calendar 2.0//EN
METHOD:PUBLISH
X-PUBLISHED-TTL:P3D
REFRESH-INTERVAL:P3D
CALSCALE:GREGORIAN
BEGIN:VEVENT
DTSTART:20110128T060000Z
DTEND:20110128T060000Z
X-MICROSOFT-CDO-ALLDAYEVENT:FALSE
SUMMARY:Unnamed Event
DESCRIPTION:Complimentary light appetizers and drink specials will be offered. Come unwind\, network and meet new friends! For your entertainment\, The Hanshaws\, a harmony-driven\, singer/songwriter\, acoustic duo Husband and Wife team who have performed together for many years\, will take the stage at 7 p.m.
X-ALT-DESC;FMTTYPE=text/html:Complimentary light appetizers and drink specials will be offered. Come unwind\, network and meet new friends! For your entertainment\, The Hanshaws\, a harmony-driven\, singer/songwriter\, acoustic duo Husband and Wife team who have performed together for many years\, will take the stage at 7 p.m.
LOCATION:Gabby's Steaks\, Ribs & BarB-Q 4659 Telephone Rd. Houston\, TX 77087
UID:e.2026.73022
SEQUENCE:3
DTSTAMP:20260423T192756Z
URL:https://business.eecoc.org/events/details/unnamed-event-01-28-2011-73022
END:VEVENT

END:VCALENDAR
