BEGIN:VCALENDAR
VERSION:2.0
PRODID:-//ChamberMaster//Event Calendar 2.0//EN
METHOD:PUBLISH
X-PUBLISHED-TTL:P3D
REFRESH-INTERVAL:P3D
CALSCALE:GREGORIAN
BEGIN:VEVENT
DTSTART:20120117T060000Z
DTEND:20120117T060000Z
X-MICROSOFT-CDO-ALLDAYEVENT:FALSE
SUMMARY:Unnamed Event
DESCRIPTION:Give a 60 second commercial on your business to more than 50 prospective customers!  Receive contact information after the event for immediate follow up. Complimentary Breakfast provided by Ocean Dental!
X-ALT-DESC;FMTTYPE=text/html:Give a 60 second commercial on your business to more than 50 prospective customers!  Receive contact information after the event for immediate follow up. Complimentary Breakfast provided by Ocean Dental! \n\n
LOCATION:Ocean Dental 900 South Wayside\, Suite 100\, 77023
UID:e.2026.88828
SEQUENCE:3
DTSTAMP:20260423T005923Z
URL:https://business.eecoc.org/events/details/unnamed-event-01-17-2012-88828
END:VEVENT

END:VCALENDAR
