BEGIN:VCALENDAR
VERSION:2.0
PRODID:-//ChamberMaster//Event Calendar 2.0//EN
METHOD:PUBLISH
X-PUBLISHED-TTL:P3D
REFRESH-INTERVAL:P3D
CALSCALE:GREGORIAN
BEGIN:VEVENT
DTSTART:20100113T060000Z
DTEND:20100113T060000Z
X-MICROSOFT-CDO-ALLDAYEVENT:FALSE
SUMMARY:Unnamed Event
DESCRIPTION:New Year's Luncheon featuring Harris County Attorney\, Vince Ryan\nThe Harris County Attorney's Office represents the County\, its departments\, elected and appointed officials and employees in all civil matters.  Connect YOUR Business to Vince Ryan and Harris County by attending this exciting New Year's event.
X-ALT-DESC;FMTTYPE=text/html:New Year's Luncheon featuring Harris County Attorney\, Vince Ryan\nThe Harris County Attorney's Office represents the County\, its departments\, elected and appointed officials and employees in all civil matters.  Connect YOUR Business to Vince Ryan and Harris County by attending this exciting New Year's event.  
LOCATION:Brady's Landing 8505 Cypress St.
UID:e.2026.45375
SEQUENCE:3
DTSTAMP:20260424T132006Z
URL:https://business.eecoc.org/events/details/unnamed-event-01-13-2010-45375
END:VEVENT

END:VCALENDAR
