BEGIN:VCALENDAR
VERSION:2.0
PRODID:-//ChamberMaster//Event Calendar 2.0//EN
METHOD:PUBLISH
X-PUBLISHED-TTL:P3D
REFRESH-INTERVAL:P3D
CALSCALE:GREGORIAN
BEGIN:VEVENT
DTSTART:20110112T060000Z
DTEND:20110112T060000Z
X-MICROSOFT-CDO-ALLDAYEVENT:FALSE
SUMMARY:Unnamed Event
DESCRIPTION:Business Luncheon featuring Sheriff Adrian Garcia. Meet and hear Sheriff Garcia speak about Port Security and the Harris County Sheriff's Office 2011 Plans.\nLearn how you can benefit from and do business with the Harris County Sheriff's Office\, the largest sheriff's office in Texas and third in the United States!
X-ALT-DESC;FMTTYPE=text/html:Business Luncheon featuring Sheriff Adrian Garcia. Meet and hear Sheriff Garcia speak about Port Security and the Harris County Sheriff's Office 2011 Plans.\nLearn how you can benefit from and do business with the Harris County Sheriff's Office\, the largest sheriff's office in Texas and third in the United States!
LOCATION:Brady's Landing 8505 Cypress Houston\, TX 77012
UID:e.2026.72403
SEQUENCE:3
DTSTAMP:20260423T192119Z
URL:https://business.eecoc.org/events/details/unnamed-event-01-12-2011-72403
END:VEVENT

END:VCALENDAR
