BEGIN:VCALENDAR
VERSION:2.0
PRODID:-//ChamberMaster//Event Calendar 2.0//EN
METHOD:PUBLISH
X-PUBLISHED-TTL:P3D
REFRESH-INTERVAL:P3D
CALSCALE:GREGORIAN
BEGIN:VEVENT
DTSTART:20100105T060000Z
DTEND:20100105T060000Z
X-MICROSOFT-CDO-ALLDAYEVENT:FALSE
SUMMARY:Unnamed Event
DESCRIPTION:Breakfast Exchange!\nGive a 60 second commercial on your business and receive contact information on everyone present for easy follow up!  Free breakfast compliments of bohemeo's!
X-ALT-DESC;FMTTYPE=text/html:Breakfast Exchange!\nGive a 60 second commercial on your business and receive contact information on everyone present for easy follow up!  Free breakfast compliments of bohemeo's!\n
LOCATION:bohemeo's 708 Telephone Road #E - 77023
UID:e.2026.45371
SEQUENCE:3
DTSTAMP:20260424T132220Z
URL:https://business.eecoc.org/events/details/unnamed-event-01-05-2010-45371
END:VEVENT

END:VCALENDAR
