BEGIN:VCALENDAR
VERSION:2.0
PRODID:-//ChamberMaster//Event Calendar 2.0//EN
METHOD:PUBLISH
X-PUBLISHED-TTL:P3D
REFRESH-INTERVAL:P3D
CALSCALE:GREGORIAN
BEGIN:VEVENT
DTSTART:20110104T060000Z
DTEND:20110104T060000Z
X-MICROSOFT-CDO-ALLDAYEVENT:FALSE
SUMMARY:Unnamed Event
DESCRIPTION:Brought to you by Space City Credit Union and Neighborhood Centers Inc. - Ripley House.\nGive a 60 second "commercial" on YOUR Business to prospective customers.
X-ALT-DESC;FMTTYPE=text/html:Brought to you by Space City Credit Union and Neighborhood Centers Inc. - Ripley House.\nGive a 60 second "commercial" on YOUR Business to prospective customers.\n
LOCATION:Neighborhood Centers Inc. 4410 Navigation Blvd. Houston\, TX 77011
UID:e.2026.72258
SEQUENCE:3
DTSTAMP:20260423T192054Z
URL:https://business.eecoc.org/events/details/unnamed-event-01-04-2011-72258
END:VEVENT

END:VCALENDAR
