BEGIN:VCALENDAR
VERSION:2.0
PRODID:-//ChamberMaster//Event Calendar 2.0//EN
METHOD:PUBLISH
X-PUBLISHED-TTL:P3D
REFRESH-INTERVAL:P3D
CALSCALE:GREGORIAN
BEGIN:VEVENT
DTSTART:20120514T050000Z
DTEND:20120514T050000Z
X-MICROSOFT-CDO-ALLDAYEVENT:FALSE
SUMMARY:United Airlines & Southwest Airlines Informational Assembly
DESCRIPTION:With Hobby Airport in the East End’s backyard\, join us and hear from Southwest Airlines and United Airlines\, both major stakeholders. Each airline will share an informational overview of International Service at Hobby. \nAn RSVP is required for this complimentary event. \nYou are welcome to bring your own brown bag lunch\, light lunch will be provided.
X-ALT-DESC;FMTTYPE=text/html:With Hobby Airport in the East End’s backyard\, join us and hear from Southwest Airlines and United Airlines\, both major stakeholders. Each airline will share an informational overview of International Service at Hobby. \nAn RSVP is required for this complimentary event. \nYou are welcome to bring your own brown bag lunch\, light lunch will be provided. 
LOCATION:One Americas Plaza 2311 Canal St. (across from Our Lady of Guadalupe Church) Houston\, Texas 77003
UID:e.2026.92676
SEQUENCE:3
DTSTAMP:20260422T190827Z
URL:https://business.eecoc.org/events/details/united-airlines-southwest-airlines-informational-assembly-05-14-2012-92676
END:VEVENT

END:VCALENDAR
