BEGIN:VCALENDAR
VERSION:2.0
PRODID:-//ChamberMaster//Event Calendar 2.0//EN
METHOD:PUBLISH
X-PUBLISHED-TTL:P3D
REFRESH-INTERVAL:P3D
CALSCALE:GREGORIAN
BEGIN:VEVENT
DTSTART:20111109T060000Z
DTEND:20111109T060000Z
X-MICROSOFT-CDO-ALLDAYEVENT:FALSE
SUMMARY:The WorkFaith Connection Graduation Celebration
DESCRIPTION:Join us for an impactful graduation ceremony celebrating the men and women we serve who have completed our 8 day job readiness workshop.
X-ALT-DESC;FMTTYPE=text/html:Join us for an impactful graduation ceremony celebrating the men and women we serve who have completed our 8 day job readiness workshop.
LOCATION:5100 Travis Street Houston\, TX 77002
UID:e.2026.5062881
SEQUENCE:3
DTSTAMP:20260423T041950Z
URL:https://business.eecoc.org/events/details/the-workfaith-connection-graduation-celebration-11-09-2011-5062881
END:VEVENT

END:VCALENDAR
