BEGIN:VCALENDAR
VERSION:2.0
PRODID:-//ChamberMaster//Event Calendar 2.0//EN
METHOD:PUBLISH
X-PUBLISHED-TTL:P3D
REFRESH-INTERVAL:P3D
CALSCALE:GREGORIAN
BEGIN:VEVENT
DTSTART:20111107T060000Z
DTEND:20111107T060000Z
X-MICROSOFT-CDO-ALLDAYEVENT:FALSE
SUMMARY:Space City CU's 2nd Annual Wolf Scholarship Golf Classic
DESCRIPTION:Space City Credit Union is hosting its 2nd Annual Wolf Scholarship Golf Classic to raise funds to help deserving students reach their educational goals with a Wolf Scholarship.\n\nThere are many ways you can be a part of the tournament. Become a corporate sponsor (Colonel\, General\, Captain\, Airman or Flight Crew)...sign up a team to play a round of golf just for fun...sponsor a Drink Cart...just to name a few.
X-ALT-DESC;FMTTYPE=text/html:Space City Credit Union is hosting its 2nd Annual Wolf Scholarship Golf Classic to raise funds to help deserving students reach their educational goals with a Wolf Scholarship.\n\nThere are many ways you can be a part of the tournament. Become a corporate sponsor (Colonel\, General\, Captain\, Airman or Flight Crew)...sign up a team to play a round of golf just for fun...sponsor a Drink Cart...just to name a few.
LOCATION:Cypress Wolf Golf Club Spring\, TX
UID:e.2026.5062745
SEQUENCE:3
DTSTAMP:20260423T041923Z
URL:https://business.eecoc.org/events/details/space-city-cu-s-2nd-annual-wolf-scholarship-golf-classic-11-07-2011-5062745
END:VEVENT

END:VCALENDAR
