BEGIN:VCALENDAR
VERSION:2.0
PRODID:-//ChamberMaster//Event Calendar 2.0//EN
METHOD:PUBLISH
X-PUBLISHED-TTL:P3D
REFRESH-INTERVAL:P3D
CALSCALE:GREGORIAN
BEGIN:VEVENT
DTSTART:20120211T060000Z
DTEND:20120211T060000Z
X-MICROSOFT-CDO-ALLDAYEVENT:FALSE
SUMMARY:Ribbon Cutting - Listo Tax Solutions
DESCRIPTION:Join the East End Chamber of Commerce for a ribbon-cutting ceremony and Grand Opening Celebration for our new member\, Listo Tax Solutions!\n\nEnjoy food\, drinks and enter the raffle drawing for your chance to win a Kindle Fire!\n\nOur ribbon-cutting ceremony will "kickoff" the Grand Opening event so don't miss it!\n\nRadio station La Que Buena 93.3 FM will be airing live radio remotes from the event!
X-ALT-DESC;FMTTYPE=text/html:Join the East End Chamber of Commerce for a ribbon-cutting ceremony and Grand Opening Celebration for our new member\, Listo Tax Solutions!\n\nEnjoy food\, drinks and enter the raffle drawing for your chance to win a Kindle Fire!\n\nOur ribbon-cutting ceremony will "kickoff" the Grand Opening event so don't miss it!\n\nRadio station La Que Buena 93.3 FM will be airing live radio remotes from the event!\n
LOCATION:5819 Gulf Freeway\, Ste. 800 Houston\, Texas 77023
UID:e.2026.89660
SEQUENCE:3
DTSTAMP:20260422T234210Z
URL:https://business.eecoc.org/events/details/ribbon-cutting-listo-tax-solutions-02-11-2012-89660
END:VEVENT

END:VCALENDAR
