BEGIN:VCALENDAR
VERSION:2.0
PRODID:-//ChamberMaster//Event Calendar 2.0//EN
METHOD:PUBLISH
X-PUBLISHED-TTL:P3D
REFRESH-INTERVAL:P3D
CALSCALE:GREGORIAN
BEGIN:VEVENT
DTSTART:20110923T050000Z
DTEND:20110923T050000Z
X-MICROSOFT-CDO-ALLDAYEVENT:FALSE
SUMMARY:Procurement Opportunity Luncheon
DESCRIPTION:Participants can learn valuable information regarding the procurement process and contracting opportunities.  A diverse list of procurement experts from the city\, corporate and government entities will be in attendance.  This constructive business-to-business matchmaking opportunity will give chamber members direct access to procurement sources.\n\nLunch sponsored by CenterPoint Energy.\n\nThis is a complimentary event.\n\nPlease rsvp to marisa@eecoc.org or call 713-926-3305.
X-ALT-DESC;FMTTYPE=text/html:Participants can learn valuable information regarding the procurement process and contracting opportunities.  A diverse list of procurement experts from the city\, corporate and government entities will be in attendance.  This constructive business-to-business matchmaking opportunity will give chamber members direct access to procurement sources.\n\nLunch sponsored by CenterPoint Energy.\n\nThis is a complimentary event.\n\nPlease rsvp to marisa@eecoc.org or call 713-926-3305.
LOCATION:Houston Community College Southeast 6815 Rustic Learning Hub Building\, Room 108 Houston\, Texas 77087
UID:e.2026.86791
SEQUENCE:3
DTSTAMP:20260423T072033Z
URL:https://business.eecoc.org/events/details/procurement-opportunity-luncheon-09-23-2011-86791
END:VEVENT

END:VCALENDAR
