BEGIN:VCALENDAR
VERSION:2.0
PRODID:-//ChamberMaster//Event Calendar 2.0//EN
METHOD:PUBLISH
X-PUBLISHED-TTL:P3D
REFRESH-INTERVAL:P3D
CALSCALE:GREGORIAN
BEGIN:VEVENT
DTSTART:20090805T050000Z
DTEND:20090805T050000Z
X-MICROSOFT-CDO-ALLDAYEVENT:FALSE
SUMMARY:Networking Breakfast
DESCRIPTION:Speed Networking Breakfast!   Personally introduce YOUR Business to more than 50 prospective customers at this energizing and fun meeting where everyone leaves with a smile on their face and a spring in their step!  Enjoy a complimentary breakfast and receive contact information on everyone present via email for easy follow-up.
X-ALT-DESC;FMTTYPE=text/html:Speed Networking Breakfast!   Personally introduce YOUR Business to more than 50 prospective customers at this energizing and fun meeting where everyone leaves with a smile on their face and a spring in their step!  Enjoy a complimentary breakfast and receive contact information on everyone present via email for easy follow-up.
LOCATION:Gulf Coast Regional Blood Center 546 Gulfgate Center
UID:e.2026.25855
SEQUENCE:3
DTSTAMP:20260425T041156Z
URL:https://business.eecoc.org/events/details/networking-breakfast-08-05-2009-25855
END:VEVENT

END:VCALENDAR
