BEGIN:VCALENDAR
VERSION:2.0
PRODID:-//ChamberMaster//Event Calendar 2.0//EN
METHOD:PUBLISH
X-PUBLISHED-TTL:P3D
REFRESH-INTERVAL:P3D
CALSCALE:GREGORIAN
BEGIN:VEVENT
DTSTART:20110811T050000Z
DTEND:20110811T050000Z
X-MICROSOFT-CDO-ALLDAYEVENT:FALSE
SUMMARY:Metro-Getting Your Small Business on Track
DESCRIPTION:Learn how to write successful proposals for RFQ's\, RFP's and IFB's.
X-ALT-DESC;FMTTYPE=text/html:Learn how to write successful proposals for RFQ's\, RFP's and IFB's.
LOCATION:McConnell & Jones 3040 Post Oak Blvd.\, Suite 1600 Houston\, TX 77056
UID:e.2026.5062465
SEQUENCE:3
DTSTAMP:20260423T090903Z
URL:https://business.eecoc.org/events/details/metro-getting-your-small-business-on-track-08-11-2011-5062465
END:VEVENT

END:VCALENDAR
