BEGIN:VCALENDAR
VERSION:2.0
PRODID:-//ChamberMaster//Event Calendar 2.0//EN
METHOD:PUBLISH
X-PUBLISHED-TTL:P3D
REFRESH-INTERVAL:P3D
CALSCALE:GREGORIAN
BEGIN:VEVENT
DTSTART:20111029T050000Z
DTEND:20111029T050000Z
X-MICROSOFT-CDO-ALLDAYEVENT:FALSE
SUMMARY:Magnolia National Little League
DESCRIPTION:Face Painting\, Cake walk\, Music by DJ Marty Mar ! \, Food \, Pony Rides\, Batting Cages\, Baseball games \, "President Must Run" Fundraiser !
X-ALT-DESC;FMTTYPE=text/html:Face Painting\, Cake walk\, Music by DJ Marty Mar ! \, Food \, Pony Rides\, Batting Cages\, Baseball games \, "President Must Run" Fundraiser !
LOCATION:Hidalgo Park {aka} Magnolia Mexican Park. 7000 Avenue Q in Houston\, Tx 77011
UID:e.2026.5062836
SEQUENCE:3
DTSTAMP:20260423T060137Z
URL:https://business.eecoc.org/events/details/magnolia-national-little-league-10-29-2011-5062836
END:VEVENT

END:VCALENDAR
