BEGIN:VCALENDAR
VERSION:2.0
PRODID:-//ChamberMaster//Event Calendar 2.0//EN
METHOD:PUBLISH
X-PUBLISHED-TTL:P3D
REFRESH-INTERVAL:P3D
CALSCALE:GREGORIAN
BEGIN:VEVENT
DTSTART:20110802T050000Z
DTEND:20110802T050000Z
X-MICROSOFT-CDO-ALLDAYEVENT:FALSE
SUMMARY:Lunch & Learn
DESCRIPTION:
X-ALT-DESC;FMTTYPE=text/html:
LOCATION:Houston Community College-Southeast Campus 6815 Rustic\, Learning Hub Building-Room 108 Houston\, TX 77087
UID:e.2026.84772
SEQUENCE:3
DTSTAMP:20260423T090208Z
URL:https://business.eecoc.org/events/details/lunch-learn-08-02-2011-84772
END:VEVENT

END:VCALENDAR
