BEGIN:VCALENDAR
VERSION:2.0
PRODID:-//ChamberMaster//Event Calendar 2.0//EN
METHOD:PUBLISH
X-PUBLISHED-TTL:P3D
REFRESH-INTERVAL:P3D
CALSCALE:GREGORIAN
BEGIN:VEVENT
DTSTART:20110607T050000Z
DTEND:20110607T050000Z
X-MICROSOFT-CDO-ALLDAYEVENT:FALSE
SUMMARY:Lunch & Learn
DESCRIPTION:Social Networking
X-ALT-DESC;FMTTYPE=text/html:Social Networking
LOCATION:Houston Community College-Southeast Campus 6815 Rustic\, Learning Hub Building-Room 108 Houston\, TX 77087
UID:e.2026.81090
SEQUENCE:3
DTSTAMP:20260423T120756Z
URL:https://business.eecoc.org/events/details/lunch-learn-06-07-2011-81090
END:VEVENT

END:VCALENDAR
