BEGIN:VCALENDAR
VERSION:2.0
PRODID:-//ChamberMaster//Event Calendar 2.0//EN
METHOD:PUBLISH
X-PUBLISHED-TTL:P3D
REFRESH-INTERVAL:P3D
CALSCALE:GREGORIAN
BEGIN:VEVENT
DTSTART:20120303T060000Z
DTEND:20120303T060000Z
X-MICROSOFT-CDO-ALLDAYEVENT:FALSE
SUMMARY:Greater East End Community Health Fair
DESCRIPTION:Health fair for people of all ages! Free immunizations\, dental screenings\, glasses\, physical examinations\, STD/HIV screening\, Medicaid/CHIP assistance\, diabetes management\, nutritional counseling\, and FOOD!
X-ALT-DESC;FMTTYPE=text/html:Health fair for people of all ages! Free immunizations\, dental screenings\, glasses\, physical examinations\, STD/HIV screening\, Medicaid/CHIP assistance\, diabetes management\, nutritional counseling\, and FOOD!
LOCATION:Mision Milby\, 2220 Broadway\, Houston\, TX 77012
UID:e.2026.5063335
SEQUENCE:3
DTSTAMP:20260422T220054Z
URL:https://business.eecoc.org/events/details/greater-east-end-community-health-fair-03-03-2012-5063335
END:VEVENT

END:VCALENDAR
