BEGIN:VCALENDAR
VERSION:2.0
PRODID:-//ChamberMaster//Event Calendar 2.0//EN
METHOD:PUBLISH
X-PUBLISHED-TTL:P3D
REFRESH-INTERVAL:P3D
CALSCALE:GREGORIAN
BEGIN:VEVENT
DTSTART:20120626T050000Z
DTEND:20120626T050000Z
X-MICROSOFT-CDO-ALLDAYEVENT:FALSE
SUMMARY:El Bolillo Bakery Ribbon Cutting
DESCRIPTION:Come join the East End Chamber of Commerce as we welcome one of the newest bakeries to the East End!  El Bolillo is opening its 3rd location at 2421 S. Wayside and will offer samples of their delicious pastries and a tour of the new facility for everyone to enjoy!!
X-ALT-DESC;FMTTYPE=text/html:Come join the East End Chamber of Commerce as we welcome one of the newest bakeries to the East End!  El Bolillo is opening its 3rd location at 2421 S. Wayside and will offer samples of their delicious pastries and a tour of the new facility for everyone to enjoy!!
LOCATION:El Bolillo Bakery 2421 S. Wayside Dr. Houston\, Texas 77023
UID:e.2026.94901
SEQUENCE:3
DTSTAMP:20260422T174304Z
URL:https://business.eecoc.org/events/details/el-bolillo-bakery-ribbon-cutting-06-26-2012-94901
END:VEVENT

END:VCALENDAR
