BEGIN:VCALENDAR
VERSION:2.0
PRODID:-//ChamberMaster//Event Calendar 2.0//EN
METHOD:PUBLISH
X-PUBLISHED-TTL:P3D
REFRESH-INTERVAL:P3D
CALSCALE:GREGORIAN
BEGIN:VEVENT
DTSTART:20111012T050000Z
DTEND:20111012T050000Z
X-MICROSOFT-CDO-ALLDAYEVENT:FALSE
SUMMARY:East End Economic Development Townhall
DESCRIPTION:The Mayor's Hispanic Advisory Board\, The East End Chamber of Commerce\, and The Greater East End District invites you to an East End Economic Development Townhall. Special Guest: Andy Icken\, Chief Development Officer\, City of Houston. Topics will include: economic development\, infrastructure repair\, new city council zones--opportunities for YOU to ask questions. Complimentary Event!
X-ALT-DESC;FMTTYPE=text/html:The Mayor's Hispanic Advisory Board\, The East End Chamber of Commerce\, and The Greater East End District invites you to an East End Economic Development Townhall. Special Guest: Andy Icken\, Chief Development Officer\, City of Houston. Topics will include: economic development\, infrastructure repair\, new city council zones--opportunities for YOU to ask questions. Complimentary Event!
LOCATION:Houston Community College Southeast 301 N. Drennan Felix Fraga Academic Center Multi Purpose Room #160 Houston\, Texas 77087
UID:e.2026.87699
SEQUENCE:3
DTSTAMP:20260423T054910Z
URL:https://business.eecoc.org/events/details/east-end-economic-development-townhall-10-12-2011-87699
END:VEVENT

END:VCALENDAR
