BEGIN:VCALENDAR
VERSION:2.0
PRODID:-//ChamberMaster//Event Calendar 2.0//EN
METHOD:PUBLISH
X-PUBLISHED-TTL:P3D
REFRESH-INTERVAL:P3D
CALSCALE:GREGORIAN
BEGIN:VEVENT
DTSTART:20110927T050000Z
DTEND:20110927T050000Z
X-MICROSOFT-CDO-ALLDAYEVENT:FALSE
SUMMARY:Crime Awareness Meeting
DESCRIPTION:Discussion: HPD Bomb Squad \nAlso hear and ask questions from local law enforcement representatives who will give crime reports from the following agencies:\n\n•	HPD Eastside Division\n•	HPD South Central\n•	HPD Northeast\n•	HC Precinct 6\n•	METRO\n•	HISD \n\nCOMPLIMENTARY BREAKFAST SPONSORED BY SPACE CITY CREDIT UNION\, 3101 Harrisburg\, 77003!
X-ALT-DESC;FMTTYPE=text/html:Discussion: HPD Bomb Squad \nAlso hear and ask questions from local law enforcement representatives who will give crime reports from the following agencies:\n\n•	HPD Eastside Division\n•	HPD South Central\n•	HPD Northeast\n•	HC Precinct 6\n•	METRO\n•	HISD \n\nCOMPLIMENTARY BREAKFAST SPONSORED BY SPACE CITY CREDIT UNION\, 3101 Harrisburg\, 77003!
LOCATION:Community Family Centers 7524 Avenue E. Houston\, TX 77012
UID:e.2026.87127
SEQUENCE:3
DTSTAMP:20260423T072103Z
URL:https://business.eecoc.org/events/details/crime-awareness-meeting-09-27-2011-87127
END:VEVENT

END:VCALENDAR
