BEGIN:VCALENDAR
VERSION:2.0
PRODID:-//ChamberMaster//Event Calendar 2.0//EN
METHOD:PUBLISH
X-PUBLISHED-TTL:P3D
REFRESH-INTERVAL:P3D
CALSCALE:GREGORIAN
BEGIN:VEVENT
DTSTART:20120724T050000Z
DTEND:20120724T050000Z
X-MICROSOFT-CDO-ALLDAYEVENT:FALSE
SUMMARY:Crime Awareness Meeting
DESCRIPTION:Hear and ask questions from local law enforcement representatives\nwho will give crime reports from the following agencies:\n\n\n•	HPD Eastside Division\n•	HPD South Central\n•	HPD Northeast\n•	HC Precinct 6\n•	METRO\n•	HISD \n\nCOMPLIMENTARY BREAKFAST WILL BE PROVIDED!!!
X-ALT-DESC;FMTTYPE=text/html:Hear and ask questions from local law enforcement representatives\nwho will give crime reports from the following agencies:\n\n\n•	HPD Eastside Division\n•	HPD South Central\n•	HPD Northeast\n•	HC Precinct 6\n•	METRO\n•	HISD \n\nCOMPLIMENTARY BREAKFAST WILL BE PROVIDED!!! 
LOCATION:Community Family Centers 7524 Avenue E\, Houston\, TX 77012
UID:e.2026.90183
SEQUENCE:3
DTSTAMP:20260422T161921Z
URL:https://business.eecoc.org/events/details/crime-awareness-meeting-07-24-2012-90183
END:VEVENT

END:VCALENDAR
