BEGIN:VCALENDAR
VERSION:2.0
PRODID:-//ChamberMaster//Event Calendar 2.0//EN
METHOD:PUBLISH
X-PUBLISHED-TTL:P3D
REFRESH-INTERVAL:P3D
CALSCALE:GREGORIAN
BEGIN:VEVENT
DTSTART:20120124T060000Z
DTEND:20120124T060000Z
X-MICROSOFT-CDO-ALLDAYEVENT:FALSE
SUMMARY:Crime Awareness Meeting
DESCRIPTION:January Crime Awareness Meeting\nDiscussion: Harris County Precinct 6 Update & \nIntroduction to their New\, Swift Water Rescue Team \n\nJoin us and hear from Lt. Julio Banda\, Harris County Precinct 6 \n\nAlso hear and ask questions from local law enforcement representatives\nwho will give crime reports from the following agencies:\n\n\n•	HPD Eastside Division\n•	HPD South Central\n•	HPD Northeast\n•	HC Precinct 6\n•	METRO\n•	HISD \n\nCOMPLIMENTARY BREAKFAST SPONSORED BY SPACE CITY CREDIT UNION!
X-ALT-DESC;FMTTYPE=text/html:January Crime Awareness Meeting\nDiscussion: Harris County Precinct 6 Update & \nIntroduction to their New\, Swift Water Rescue Team \n\nJoin us and hear from Lt. Julio Banda\, Harris County Precinct 6 \n\nAlso hear and ask questions from local law enforcement representatives\nwho will give crime reports from the following agencies:\n\n\n•	HPD Eastside Division\n•	HPD South Central\n•	HPD Northeast\n•	HC Precinct 6\n•	METRO\n•	HISD \n\nCOMPLIMENTARY BREAKFAST SPONSORED BY SPACE CITY CREDIT UNION! 
LOCATION:Community Family Centers 7524 Avenue E\, Houston\, TX 77012
UID:e.2026.89411
SEQUENCE:3
DTSTAMP:20260423T010309Z
URL:https://business.eecoc.org/events/details/crime-awareness-meeting-01-24-2012-89411
END:VEVENT

END:VCALENDAR
